BEGIN:VCALENDAR
VERSION:2.0
PRODID:-//Coastside Hope - ECPv6.15.20//NONSGML v1.0//EN
CALSCALE:GREGORIAN
METHOD:PUBLISH
X-ORIGINAL-URL:https://coastsidehope.org
X-WR-CALDESC:Events for Coastside Hope
REFRESH-INTERVAL;VALUE=DURATION:PT1H
X-Robots-Tag:noindex
X-PUBLISHED-TTL:PT1H
BEGIN:VTIMEZONE
TZID:UTC
BEGIN:STANDARD
TZOFFSETFROM:+0000
TZOFFSETTO:+0000
TZNAME:UTC
DTSTART:20260101T000000
END:STANDARD
END:VTIMEZONE
BEGIN:VEVENT
DTSTART;TZID=UTC:20270311T090000
DTEND;TZID=UTC:20270311T170000
DTSTAMP:20260425T055558
CREATED:20201117T080346Z
LAST-MODIFIED:20201117T081209Z
UID:10001826-1804755600-1804784400@coastsidehope.org
SUMMARY:Food Pantry
DESCRIPTION:Office Food Pantry is open Monday – Friday during the normal office hours. \n*CLOSED from 12-1 for Lunch* 
URL:https://coastsidehope.org/calendar/food-pantry/2027-03-11/
LOCATION:Coastside Hope Office\, 99 Ave Alhambra\, El Granada\, CA\, 94018\, United States
END:VEVENT
BEGIN:VEVENT
DTSTART;TZID=UTC:20270312T090000
DTEND;TZID=UTC:20270312T170000
DTSTAMP:20260425T055558
CREATED:20201117T080346Z
LAST-MODIFIED:20201117T081209Z
UID:10001827-1804842000-1804870800@coastsidehope.org
SUMMARY:Food Pantry
DESCRIPTION:Office Food Pantry is open Monday – Friday during the normal office hours. \n*CLOSED from 12-1 for Lunch* 
URL:https://coastsidehope.org/calendar/food-pantry/2027-03-12/
LOCATION:Coastside Hope Office\, 99 Ave Alhambra\, El Granada\, CA\, 94018\, United States
END:VEVENT
BEGIN:VEVENT
DTSTART;TZID=UTC:20270315T090000
DTEND;TZID=UTC:20270315T170000
DTSTAMP:20260425T055558
CREATED:20201117T080346Z
LAST-MODIFIED:20201117T081209Z
UID:10001828-1805101200-1805130000@coastsidehope.org
SUMMARY:Food Pantry
DESCRIPTION:Office Food Pantry is open Monday – Friday during the normal office hours. \n*CLOSED from 12-1 for Lunch* 
URL:https://coastsidehope.org/calendar/food-pantry/2027-03-15/
LOCATION:Coastside Hope Office\, 99 Ave Alhambra\, El Granada\, CA\, 94018\, United States
END:VEVENT
BEGIN:VEVENT
DTSTART;TZID=UTC:20270316T090000
DTEND;TZID=UTC:20270316T170000
DTSTAMP:20260425T055558
CREATED:20201117T080346Z
LAST-MODIFIED:20201117T081209Z
UID:10001829-1805187600-1805216400@coastsidehope.org
SUMMARY:Food Pantry
DESCRIPTION:Office Food Pantry is open Monday – Friday during the normal office hours. \n*CLOSED from 12-1 for Lunch* 
URL:https://coastsidehope.org/calendar/food-pantry/2027-03-16/
LOCATION:Coastside Hope Office\, 99 Ave Alhambra\, El Granada\, CA\, 94018\, United States
END:VEVENT
BEGIN:VEVENT
DTSTART;TZID=UTC:20270317T130000
DTEND;TZID=UTC:20270317T170000
DTSTAMP:20260425T055558
CREATED:20230410T231726Z
LAST-MODIFIED:20230410T231726Z
UID:10002382-1805288400-1805302800@coastsidehope.org
SUMMARY:Food Pantry
DESCRIPTION:Office Food Pantry is open Monday – Friday during the normal office hours. \n*CLOSED from 12-1 for Lunch* 
URL:https://coastsidehope.org/calendar/food-pantry/2027-03-17/
LOCATION:Coastside Hope Office\, 99 Ave Alhambra\, El Granada\, CA\, 94018\, United States
END:VEVENT
BEGIN:VEVENT
DTSTART;TZID=UTC:20270318T090000
DTEND;TZID=UTC:20270318T170000
DTSTAMP:20260425T055558
CREATED:20201117T080346Z
LAST-MODIFIED:20201117T081209Z
UID:10001830-1805360400-1805389200@coastsidehope.org
SUMMARY:Food Pantry
DESCRIPTION:Office Food Pantry is open Monday – Friday during the normal office hours. \n*CLOSED from 12-1 for Lunch* 
URL:https://coastsidehope.org/calendar/food-pantry/2027-03-18/
LOCATION:Coastside Hope Office\, 99 Ave Alhambra\, El Granada\, CA\, 94018\, United States
END:VEVENT
BEGIN:VEVENT
DTSTART;TZID=UTC:20270319T090000
DTEND;TZID=UTC:20270319T170000
DTSTAMP:20260425T055558
CREATED:20201117T080346Z
LAST-MODIFIED:20201117T081209Z
UID:10001831-1805446800-1805475600@coastsidehope.org
SUMMARY:Food Pantry
DESCRIPTION:Office Food Pantry is open Monday – Friday during the normal office hours. \n*CLOSED from 12-1 for Lunch* 
URL:https://coastsidehope.org/calendar/food-pantry/2027-03-19/
LOCATION:Coastside Hope Office\, 99 Ave Alhambra\, El Granada\, CA\, 94018\, United States
END:VEVENT
BEGIN:VEVENT
DTSTART;TZID=UTC:20270322T090000
DTEND;TZID=UTC:20270322T170000
DTSTAMP:20260425T055558
CREATED:20201117T080346Z
LAST-MODIFIED:20201117T081209Z
UID:10001832-1805706000-1805734800@coastsidehope.org
SUMMARY:Food Pantry
DESCRIPTION:Office Food Pantry is open Monday – Friday during the normal office hours. \n*CLOSED from 12-1 for Lunch* 
URL:https://coastsidehope.org/calendar/food-pantry/2027-03-22/
LOCATION:Coastside Hope Office\, 99 Ave Alhambra\, El Granada\, CA\, 94018\, United States
END:VEVENT
BEGIN:VEVENT
DTSTART;TZID=UTC:20270323T090000
DTEND;TZID=UTC:20270323T170000
DTSTAMP:20260425T055558
CREATED:20201117T080346Z
LAST-MODIFIED:20201117T081209Z
UID:10001833-1805792400-1805821200@coastsidehope.org
SUMMARY:Food Pantry
DESCRIPTION:Office Food Pantry is open Monday – Friday during the normal office hours. \n*CLOSED from 12-1 for Lunch* 
URL:https://coastsidehope.org/calendar/food-pantry/2027-03-23/
LOCATION:Coastside Hope Office\, 99 Ave Alhambra\, El Granada\, CA\, 94018\, United States
END:VEVENT
BEGIN:VEVENT
DTSTART;TZID=UTC:20270324T130000
DTEND;TZID=UTC:20270324T170000
DTSTAMP:20260425T055558
CREATED:20230410T231726Z
LAST-MODIFIED:20230410T231726Z
UID:10002383-1805893200-1805907600@coastsidehope.org
SUMMARY:Food Pantry
DESCRIPTION:Office Food Pantry is open Monday – Friday during the normal office hours. \n*CLOSED from 12-1 for Lunch* 
URL:https://coastsidehope.org/calendar/food-pantry/2027-03-24/
LOCATION:Coastside Hope Office\, 99 Ave Alhambra\, El Granada\, CA\, 94018\, United States
END:VEVENT
BEGIN:VEVENT
DTSTART;TZID=UTC:20270325T090000
DTEND;TZID=UTC:20270325T170000
DTSTAMP:20260425T055558
CREATED:20201117T080346Z
LAST-MODIFIED:20201117T081209Z
UID:10001834-1805965200-1805994000@coastsidehope.org
SUMMARY:Food Pantry
DESCRIPTION:Office Food Pantry is open Monday – Friday during the normal office hours. \n*CLOSED from 12-1 for Lunch* 
URL:https://coastsidehope.org/calendar/food-pantry/2027-03-25/
LOCATION:Coastside Hope Office\, 99 Ave Alhambra\, El Granada\, CA\, 94018\, United States
END:VEVENT
BEGIN:VEVENT
DTSTART;TZID=UTC:20270326T090000
DTEND;TZID=UTC:20270326T170000
DTSTAMP:20260425T055558
CREATED:20201117T080346Z
LAST-MODIFIED:20201117T081209Z
UID:10001835-1806051600-1806080400@coastsidehope.org
SUMMARY:Food Pantry
DESCRIPTION:Office Food Pantry is open Monday – Friday during the normal office hours. \n*CLOSED from 12-1 for Lunch* 
URL:https://coastsidehope.org/calendar/food-pantry/2027-03-26/
LOCATION:Coastside Hope Office\, 99 Ave Alhambra\, El Granada\, CA\, 94018\, United States
END:VEVENT
BEGIN:VEVENT
DTSTART;TZID=UTC:20270329T090000
DTEND;TZID=UTC:20270329T170000
DTSTAMP:20260425T055558
CREATED:20201117T080346Z
LAST-MODIFIED:20201117T081209Z
UID:10001836-1806310800-1806339600@coastsidehope.org
SUMMARY:Food Pantry
DESCRIPTION:Office Food Pantry is open Monday – Friday during the normal office hours. \n*CLOSED from 12-1 for Lunch* 
URL:https://coastsidehope.org/calendar/food-pantry/2027-03-29/
LOCATION:Coastside Hope Office\, 99 Ave Alhambra\, El Granada\, CA\, 94018\, United States
END:VEVENT
BEGIN:VEVENT
DTSTART;TZID=UTC:20270330T090000
DTEND;TZID=UTC:20270330T170000
DTSTAMP:20260425T055558
CREATED:20201117T080346Z
LAST-MODIFIED:20201117T081209Z
UID:10001837-1806397200-1806426000@coastsidehope.org
SUMMARY:Food Pantry
DESCRIPTION:Office Food Pantry is open Monday – Friday during the normal office hours. \n*CLOSED from 12-1 for Lunch* 
URL:https://coastsidehope.org/calendar/food-pantry/2027-03-30/
LOCATION:Coastside Hope Office\, 99 Ave Alhambra\, El Granada\, CA\, 94018\, United States
END:VEVENT
BEGIN:VEVENT
DTSTART;TZID=UTC:20270331T130000
DTEND;TZID=UTC:20270331T170000
DTSTAMP:20260425T055558
CREATED:20230410T231726Z
LAST-MODIFIED:20230410T231726Z
UID:10002384-1806498000-1806512400@coastsidehope.org
SUMMARY:Food Pantry
DESCRIPTION:Office Food Pantry is open Monday – Friday during the normal office hours. \n*CLOSED from 12-1 for Lunch* 
URL:https://coastsidehope.org/calendar/food-pantry/2027-03-31/
LOCATION:Coastside Hope Office\, 99 Ave Alhambra\, El Granada\, CA\, 94018\, United States
END:VEVENT
BEGIN:VEVENT
DTSTART;TZID=UTC:20270401T090000
DTEND;TZID=UTC:20270401T170000
DTSTAMP:20260425T055558
CREATED:20201117T080346Z
LAST-MODIFIED:20201117T081209Z
UID:10001838-1806570000-1806598800@coastsidehope.org
SUMMARY:Food Pantry
DESCRIPTION:Office Food Pantry is open Monday – Friday during the normal office hours. \n*CLOSED from 12-1 for Lunch* 
URL:https://coastsidehope.org/calendar/food-pantry/2027-04-01/
LOCATION:Coastside Hope Office\, 99 Ave Alhambra\, El Granada\, CA\, 94018\, United States
END:VEVENT
BEGIN:VEVENT
DTSTART;TZID=UTC:20270402T090000
DTEND;TZID=UTC:20270402T170000
DTSTAMP:20260425T055558
CREATED:20201117T080346Z
LAST-MODIFIED:20201117T081209Z
UID:10001839-1806656400-1806685200@coastsidehope.org
SUMMARY:Food Pantry
DESCRIPTION:Office Food Pantry is open Monday – Friday during the normal office hours. \n*CLOSED from 12-1 for Lunch* 
URL:https://coastsidehope.org/calendar/food-pantry/2027-04-02/
LOCATION:Coastside Hope Office\, 99 Ave Alhambra\, El Granada\, CA\, 94018\, United States
END:VEVENT
BEGIN:VEVENT
DTSTART;TZID=UTC:20270405T090000
DTEND;TZID=UTC:20270405T170000
DTSTAMP:20260425T055558
CREATED:20201117T080346Z
LAST-MODIFIED:20201117T081209Z
UID:10001840-1806915600-1806944400@coastsidehope.org
SUMMARY:Food Pantry
DESCRIPTION:Office Food Pantry is open Monday – Friday during the normal office hours. \n*CLOSED from 12-1 for Lunch* 
URL:https://coastsidehope.org/calendar/food-pantry/2027-04-05/
LOCATION:Coastside Hope Office\, 99 Ave Alhambra\, El Granada\, CA\, 94018\, United States
END:VEVENT
BEGIN:VEVENT
DTSTART;TZID=UTC:20270406T090000
DTEND;TZID=UTC:20270406T170000
DTSTAMP:20260425T055558
CREATED:20201117T080346Z
LAST-MODIFIED:20201117T081209Z
UID:10001841-1807002000-1807030800@coastsidehope.org
SUMMARY:Food Pantry
DESCRIPTION:Office Food Pantry is open Monday – Friday during the normal office hours. \n*CLOSED from 12-1 for Lunch* 
URL:https://coastsidehope.org/calendar/food-pantry/2027-04-06/
LOCATION:Coastside Hope Office\, 99 Ave Alhambra\, El Granada\, CA\, 94018\, United States
END:VEVENT
BEGIN:VEVENT
DTSTART;TZID=UTC:20270407T130000
DTEND;TZID=UTC:20270407T170000
DTSTAMP:20260425T055558
CREATED:20230410T231726Z
LAST-MODIFIED:20230410T231726Z
UID:10002385-1807102800-1807117200@coastsidehope.org
SUMMARY:Food Pantry
DESCRIPTION:Office Food Pantry is open Monday – Friday during the normal office hours. \n*CLOSED from 12-1 for Lunch* 
URL:https://coastsidehope.org/calendar/food-pantry/2027-04-07/
LOCATION:Coastside Hope Office\, 99 Ave Alhambra\, El Granada\, CA\, 94018\, United States
END:VEVENT
BEGIN:VEVENT
DTSTART;TZID=UTC:20270408T090000
DTEND;TZID=UTC:20270408T170000
DTSTAMP:20260425T055558
CREATED:20201117T080346Z
LAST-MODIFIED:20201117T081209Z
UID:10001842-1807174800-1807203600@coastsidehope.org
SUMMARY:Food Pantry
DESCRIPTION:Office Food Pantry is open Monday – Friday during the normal office hours. \n*CLOSED from 12-1 for Lunch* 
URL:https://coastsidehope.org/calendar/food-pantry/2027-04-08/
LOCATION:Coastside Hope Office\, 99 Ave Alhambra\, El Granada\, CA\, 94018\, United States
END:VEVENT
BEGIN:VEVENT
DTSTART;TZID=UTC:20270409T090000
DTEND;TZID=UTC:20270409T170000
DTSTAMP:20260425T055558
CREATED:20201117T080346Z
LAST-MODIFIED:20201117T081209Z
UID:10001843-1807261200-1807290000@coastsidehope.org
SUMMARY:Food Pantry
DESCRIPTION:Office Food Pantry is open Monday – Friday during the normal office hours. \n*CLOSED from 12-1 for Lunch* 
URL:https://coastsidehope.org/calendar/food-pantry/2027-04-09/
LOCATION:Coastside Hope Office\, 99 Ave Alhambra\, El Granada\, CA\, 94018\, United States
END:VEVENT
BEGIN:VEVENT
DTSTART;TZID=UTC:20270412T090000
DTEND;TZID=UTC:20270412T170000
DTSTAMP:20260425T055558
CREATED:20201117T080346Z
LAST-MODIFIED:20201117T081209Z
UID:10001844-1807520400-1807549200@coastsidehope.org
SUMMARY:Food Pantry
DESCRIPTION:Office Food Pantry is open Monday – Friday during the normal office hours. \n*CLOSED from 12-1 for Lunch* 
URL:https://coastsidehope.org/calendar/food-pantry/2027-04-12/
LOCATION:Coastside Hope Office\, 99 Ave Alhambra\, El Granada\, CA\, 94018\, United States
END:VEVENT
BEGIN:VEVENT
DTSTART;TZID=UTC:20270413T090000
DTEND;TZID=UTC:20270413T170000
DTSTAMP:20260425T055558
CREATED:20201117T080346Z
LAST-MODIFIED:20201117T081209Z
UID:10001845-1807606800-1807635600@coastsidehope.org
SUMMARY:Food Pantry
DESCRIPTION:Office Food Pantry is open Monday – Friday during the normal office hours. \n*CLOSED from 12-1 for Lunch* 
URL:https://coastsidehope.org/calendar/food-pantry/2027-04-13/
LOCATION:Coastside Hope Office\, 99 Ave Alhambra\, El Granada\, CA\, 94018\, United States
END:VEVENT
BEGIN:VEVENT
DTSTART;TZID=UTC:20270414T130000
DTEND;TZID=UTC:20270414T170000
DTSTAMP:20260425T055558
CREATED:20230410T231726Z
LAST-MODIFIED:20230410T231726Z
UID:10002386-1807707600-1807722000@coastsidehope.org
SUMMARY:Food Pantry
DESCRIPTION:Office Food Pantry is open Monday – Friday during the normal office hours. \n*CLOSED from 12-1 for Lunch* 
URL:https://coastsidehope.org/calendar/food-pantry/2027-04-14/
LOCATION:Coastside Hope Office\, 99 Ave Alhambra\, El Granada\, CA\, 94018\, United States
END:VEVENT
BEGIN:VEVENT
DTSTART;TZID=UTC:20270415T090000
DTEND;TZID=UTC:20270415T170000
DTSTAMP:20260425T055558
CREATED:20201117T080346Z
LAST-MODIFIED:20201117T081209Z
UID:10001846-1807779600-1807808400@coastsidehope.org
SUMMARY:Food Pantry
DESCRIPTION:Office Food Pantry is open Monday – Friday during the normal office hours. \n*CLOSED from 12-1 for Lunch* 
URL:https://coastsidehope.org/calendar/food-pantry/2027-04-15/
LOCATION:Coastside Hope Office\, 99 Ave Alhambra\, El Granada\, CA\, 94018\, United States
END:VEVENT
BEGIN:VEVENT
DTSTART;TZID=UTC:20270416T090000
DTEND;TZID=UTC:20270416T170000
DTSTAMP:20260425T055558
CREATED:20201117T080346Z
LAST-MODIFIED:20201117T081209Z
UID:10001847-1807866000-1807894800@coastsidehope.org
SUMMARY:Food Pantry
DESCRIPTION:Office Food Pantry is open Monday – Friday during the normal office hours. \n*CLOSED from 12-1 for Lunch* 
URL:https://coastsidehope.org/calendar/food-pantry/2027-04-16/
LOCATION:Coastside Hope Office\, 99 Ave Alhambra\, El Granada\, CA\, 94018\, United States
END:VEVENT
BEGIN:VEVENT
DTSTART;TZID=UTC:20270419T090000
DTEND;TZID=UTC:20270419T170000
DTSTAMP:20260425T055558
CREATED:20201117T080346Z
LAST-MODIFIED:20201117T081209Z
UID:10001848-1808125200-1808154000@coastsidehope.org
SUMMARY:Food Pantry
DESCRIPTION:Office Food Pantry is open Monday – Friday during the normal office hours. \n*CLOSED from 12-1 for Lunch* 
URL:https://coastsidehope.org/calendar/food-pantry/2027-04-19/
LOCATION:Coastside Hope Office\, 99 Ave Alhambra\, El Granada\, CA\, 94018\, United States
END:VEVENT
BEGIN:VEVENT
DTSTART;TZID=UTC:20270420T090000
DTEND;TZID=UTC:20270420T170000
DTSTAMP:20260425T055558
CREATED:20201117T080346Z
LAST-MODIFIED:20201117T081209Z
UID:10001849-1808211600-1808240400@coastsidehope.org
SUMMARY:Food Pantry
DESCRIPTION:Office Food Pantry is open Monday – Friday during the normal office hours. \n*CLOSED from 12-1 for Lunch* 
URL:https://coastsidehope.org/calendar/food-pantry/2027-04-20/
LOCATION:Coastside Hope Office\, 99 Ave Alhambra\, El Granada\, CA\, 94018\, United States
END:VEVENT
BEGIN:VEVENT
DTSTART;TZID=UTC:20270421T130000
DTEND;TZID=UTC:20270421T170000
DTSTAMP:20260425T055558
CREATED:20230410T231726Z
LAST-MODIFIED:20230410T231726Z
UID:10002387-1808312400-1808326800@coastsidehope.org
SUMMARY:Food Pantry
DESCRIPTION:Office Food Pantry is open Monday – Friday during the normal office hours. \n*CLOSED from 12-1 for Lunch* 
URL:https://coastsidehope.org/calendar/food-pantry/2027-04-21/
LOCATION:Coastside Hope Office\, 99 Ave Alhambra\, El Granada\, CA\, 94018\, United States
END:VEVENT
END:VCALENDAR